{"text_format":"3","workbook":"xlsx","n_sheets":3,"sheets":["総括表","総括表 (2)","リスト"],"not_rendered":{"defined_names":2,"comments":2},"read":"whole","date_system":"1900"}

{"sheet":"総括表","index":0,"n_rows":71,"n_cols":21,"rows_kept":71,"merged":[[0,0,0,18],[1,16,1,18],[2,8,2,9],[2,11,2,12],[6,5,6,7],[6,8,6,14],[7,5,7,7],[7,9,7,14],[8,3,8,7],[9,3,9,17],[10,3,10,17],[11,1,11,2],[11,3,11,17],[12,1,12,2],[12,3,12,17],[13,3,13,10],[13,13,13,17],[14,0,16,1],[14,2,14,7],[14,8,14,12],[14,13,14,14],[14,15,14,18],[15,2,15,7],[15,8,15,12],[15,13,16,14],[15,15,15,18],[16,2,16,3],[16,8,16,9],[16,15,16,18],[17,0,17,2],[17,3,17,14],[17,15,17,18],[19,1,19,14],[19,15,19,18],[20,1,20,14],[20,15,20,18],[21,1,21,14],[21,15,21,18],[22,1,22,14],[22,15,22,18],[23,1,23,14],[23,15,23,18],[24,1,24,14],[24,15,24,18],[25,1,25,14],[25,15,25,18],[26,1,26,14],[26,15,26,18],[27,1,27,14],[27,15,27,18],[28,1,28,14],[28,15,28,18],[29,1,29,14],[29,15,29,18],[30,1,30,14],[30,15,30,18],[31,1,31,14],[31,15,31,18],[32,1,32,14],[32,15,32,18],[33,1,33,14],[33,15,33,18],[34,0,34,14],[34,15,34,18],[36,0,36,18],[37,16,37,18],[38,8,38,9],[38,11,38,12],[42,5,42,7],[42,8,42,14],[43,5,43,7],[43,9,43,14],[44,3,44,7],[45,3,45,17],[46,3,46,17],[47,1,47,2],[47,3,47,17],[48,1,48,2],[48,3,48,17],[49,3,49,10],[49,13,49,18],[50,0,52,1],[50,2,50,7],[50,8,50,12],[50,13,50,14],[50,15,50,18],[51,2,51,7],[51,8,51,12],[51,13,52,14],[51,15,51,18],[52,2,52,3],[52,8,52,9],[52,15,52,18],[53,0,53,2],[53,3,53,14],[53,15,53,18],[55,1,55,14],[55,15,55,18],[56,1,56,14],[56,15,56,18],[57,1,57,14],[57,15,57,18],[58,1,58,14],[58,15,58,18],[59,1,59,14],[59,15,59,18],[60,1,60,14],[60,15,60,18],[61,1,61,14],[61,15,61,18],[62,1,62,14],[62,15,62,18],[63,1,63,14],[63,15,63,18],[64,1,64,14],[64,15,64,18],[65,1,65,14],[65,15,65,18],[66,1,66,14],[66,15,66,18],[67,1,67,14],[67,15,67,18],[68,1,68,14],[68,15,68,18],[69,1,69,14],[69,15,69,18],[70,0,70,14],[70,15,70,18]]}
[" 　請 求 書 （総括表）　",{"$nulls":19}," "]
[{"$nulls":16},"①取引先控"]
[{"$nulls":10},"年",null,null,"月",{"$f":"IF(L3=12,\"15\",\"20\")","v":"20"},"日締切",null,null," "]
[]
["酒井鈴木工業㈱　御中"]
[]
[{"$nulls":5},"摘　　　要",null,null,"金　　　　　　　額"]
[{"$nulls":5},"請　求　額",null,null,"　￥",{"$f":"P35+'総括表 (2)'!P33","v":{"v":0,"d":"0-"}}]
[null,null,"〒"]
[null,null,"住所"]
[null,null,"社名"]
[null,"代表者"]
[null,"ﾒｰﾙｱﾄﾞﾚｽ"]
[null,null,"TEL",{"$nulls":9},"FAX"]
["振　込　先",null,"金融機関名",{"$nulls":5},"支店名",{"$nulls":4},"口座種別",null,"口座番号"]
[{"$nulls":13},"普通／当座"]
[null,null,"金融機関ｺｰﾄﾞ",{"$nulls":5},"支店ｺｰﾄﾞ",{"$nulls":6},"取引先コード"]
["口座名義（カタカナで）"]
[]
["No.","工事番号・工事名",{"$nulls":13},"税込金額"]
{"$rows_empty":14}
["小計",{"$nulls":14},{"$f":"SUM(P21:S34)","v":{"v":0,"d":"0 "}}]
[]
[" 　請 求 書 （総括表）　"]
[{"$nulls":16},"②本社提出用"]
[{"$nulls":7},{"$f":"$H$3","v":0},{"$f":"$I$3","v":0},null,"年",{"$f":"$L$3","v":0},null,"月",{"$f":"$O$3","v":"20"},"日締切"]
[]
["酒井鈴木工業㈱　御中"]
[]
[{"$nulls":5},"摘　　　要",null,null,"金　　　　　　　額"]
[{"$nulls":5},"請　求　額",null,null,"　￥",{"$f":"$J$8","v":{"v":0,"d":"0-"}}]
[null,null,"〒",{"$f":"D9","v":0}]
[null,null,"住所",{"$f":"$D$10","v":0}]
[null,null,"社名",{"$f":"$D$11","v":0}]
[null,"代表者",null,{"$f":"D12","v":0}]
[null,"ﾒｰﾙｱﾄﾞﾚｽ",null,{"$f":"$D$13","v":0}]
[null,null,"TEL",{"$f":"$D$14","v":0},{"$nulls":8},"FAX",{"$f":"N14","v":0}]
["振　込　先",null,"金融機関名",{"$nulls":5},"支店名",{"$nulls":4},"口座種別",null,"口座番号"]
[null,null,{"$f":"C16","v":0},{"$nulls":5},{"$f":"I16","v":0},{"$nulls":4},{"$f":"N16","v":"普通／当座"},null,{"$f":"P16","v":0}]
[null,null,"金融機関ｺｰﾄﾞ",null,{"$f":"E17","v":0},{"$f":"F17","v":0},{"$f":"G17","v":0},{"$f":"H17","v":0},"支店ｺｰﾄﾞ",null,{"$f":"K17","v":0},{"$f":"L17","v":0},{"$f":"M17","v":0},null,null,"取引先コード"]
["口座名義（カタカナで）",null,null,{"$f":"D18","v":0},{"$nulls":11},{"$f":"P18","v":0}]
[]
["No.","工事番号・工事名",{"$nulls":13},"税込金額"]
[{"$f":"$A21","v":0},{"$f":"$B21","v":0},{"$nulls":13},{"$f":"$P21","v":{"v":0,"d":"0 "}}]
[0,0,{"$nulls":13},{"v":0,"d":"0 "}]
[0,0,{"$nulls":13},{"v":0,"d":"0 "}]
[0,0,{"$nulls":13},{"v":0,"d":"0 "}]
[0,0,{"$nulls":13},{"v":0,"d":"0 "}]
[0,0,{"$nulls":13},{"v":0,"d":"0 "}]
[0,0,{"$nulls":13},{"v":0,"d":"0 "}]
[0,0,{"$nulls":13},{"v":0,"d":"0 "}]
[0,0,{"$nulls":13},{"v":0,"d":"0 "}]
[0,0,{"$nulls":13},{"v":0,"d":"0 "}]
[0,0,{"$nulls":13},{"v":0,"d":"0 "}]
[0,0,{"$nulls":13},{"v":0,"d":"0 "}]
[0,0,{"$nulls":13},{"v":0,"d":"0 "}]
[0,0,{"$nulls":13},{"v":0,"d":"0 "}]
["小計",{"$nulls":14},{"$f":"$P$35","v":{"v":0,"d":"0 "}}]

{"sheet":"総括表 (2)","index":1,"n_rows":67,"n_cols":19,"rows_kept":67,"merged":[[0,0,0,18],[1,16,1,18],[2,8,2,9],[2,11,2,12],[3,3,3,17],[4,3,4,17],[6,1,6,14],[6,15,6,18],[7,1,7,14],[7,15,7,18],[8,1,8,14],[8,15,8,18],[9,1,9,14],[9,15,9,18],[10,1,10,14],[10,15,10,18],[11,1,11,14],[11,15,11,18],[12,1,12,14],[12,15,12,18],[13,1,13,14],[13,15,13,18],[14,1,14,14],[14,15,14,18],[15,1,15,14],[15,15,15,18],[16,1,16,14],[16,15,16,18],[17,1,17,14],[17,15,17,18],[18,1,18,14],[18,15,18,18],[19,1,19,14],[19,15,19,18],[20,1,20,14],[20,15,20,18],[21,1,21,14],[21,15,21,18],[22,1,22,14],[22,15,22,18],[23,1,23,14],[23,15,23,18],[24,1,24,14],[24,15,24,18],[25,1,25,14],[25,15,25,18],[26,1,26,14],[26,15,26,18],[27,1,27,14],[27,15,27,18],[28,1,28,14],[28,15,28,18],[29,1,29,14],[29,15,29,18],[30,1,30,14],[30,15,30,18],[31,1,31,14],[31,15,31,18],[32,0,32,14],[32,15,32,18],[34,0,34,18],[35,15,35,18],[36,8,36,9],[36,11,36,12],[37,3,37,17],[38,3,38,17],[40,1,40,14],[40,15,40,18],[41,1,41,14],[41,15,41,18],[42,1,42,14],[42,15,42,18],[43,1,43,14],[43,15,43,18],[44,1,44,14],[44,15,44,18],[45,1,45,14],[45,15,45,18],[46,1,46,14],[46,15,46,18],[47,1,47,14],[47,15,47,18],[48,1,48,14],[48,15,48,18],[49,1,49,14],[49,15,49,18],[50,1,50,14],[50,15,50,18],[51,1,51,14],[51,15,51,18],[52,1,52,14],[52,15,52,18],[53,1,53,14],[53,15,53,18],[54,1,54,14],[54,15,54,18],[55,1,55,14],[55,15,55,18],[56,1,56,14],[56,15,56,18],[57,1,57,14],[57,15,57,18],[58,1,58,14],[58,15,58,18],[59,1,59,14],[59,15,59,18],[60,1,60,14],[60,15,60,18],[61,1,61,14],[61,15,61,18],[62,1,62,14],[62,15,62,18],[63,1,63,14],[63,15,63,18],[64,1,64,14],[64,15,64,18],[65,1,65,14],[65,15,65,18],[66,0,66,14],[66,15,66,18]]}
[" 　請 求 書 （総括表）-(2)　"]
[{"$nulls":16},"①取引先控"]
[{"$nulls":8},{"$f":"総括表!I3","v":0},null,"年",{"$f":"総括表!L3","v":0},null,"月",{"$f":"総括表!O3","v":"20"},"日締切",null,null," "]
[null,null,"住所",{"$f":"総括表!D10","v":0}]
[null,null,"社名",{"$f":"総括表!D11","v":0}]
[]
["No.","工事番号・工事名",{"$nulls":13},"税込金額"]
{"$rows_empty":25}
["小計",{"$nulls":14},{"$f":"SUM(P8:S32)","v":{"v":0,"d":"0 "}}]
[]
[" 　請 求 書 （総括表）-(2)　"]
[{"$nulls":15},"②提出用（経理）"]
[{"$nulls":8},{"$f":"総括表!I3","v":0},null,"年",{"$f":"総括表!L3","v":0},null,"月",{"$f":"総括表!O3","v":"20"},"日締切",null,null," "]
[null,null,"住所",{"$f":"総括表!D10","v":0}]
[null,null,"社名",{"$f":"総括表!D11","v":0}]
[]
["No.","工事番号・工事名",{"$nulls":13},"税込金額"]
[{"$f":"A8","v":0},0,{"$nulls":13},{"$f":"P8","v":{"v":0,"d":"0 "}}]
[0,0,{"$nulls":13},{"v":0,"d":"0 "}]
[0,0,{"$nulls":13},{"v":0,"d":"0 "}]
[0,0,{"$nulls":13},{"v":0,"d":"0 "}]
[0,0,{"$nulls":13},{"v":0,"d":"0 "}]
[0,0,{"$nulls":13},{"v":0,"d":"0 "}]
[0,0,{"$nulls":13},{"v":0,"d":"0 "}]
[0,0,{"$nulls":13},{"v":0,"d":"0 "}]
[0,0,{"$nulls":13},{"v":0,"d":"0 "}]
[0,0,{"$nulls":13},{"v":0,"d":"0 "}]
[0,0,{"$nulls":13},{"v":0,"d":"0 "}]
[0,0,{"$nulls":13},{"v":0,"d":"0 "}]
[0,0,{"$nulls":13},{"v":0,"d":"0 "}]
[0,0,{"$nulls":13},{"v":0,"d":"0 "}]
[0,0,{"$nulls":13},{"v":0,"d":"0 "}]
[0,0,{"$nulls":13},{"v":0,"d":"0 "}]
[0,0,{"$nulls":13},{"v":0,"d":"0 "}]
[0,0,{"$nulls":13},{"v":0,"d":"0 "}]
[0,0,{"$nulls":13},{"v":0,"d":"0 "}]
[0,0,{"$nulls":13},{"v":0,"d":"0 "}]
[0,0,{"$nulls":13},{"v":0,"d":"0 "}]
[0,0,{"$nulls":13},{"v":0,"d":"0 "}]
[0,0,{"$nulls":13},{"v":0,"d":"0 "}]
[0,0,{"$nulls":13},{"v":0,"d":"0 "}]
[0,0,{"$nulls":13},{"v":0,"d":"0 "}]
["小計",{"$nulls":14},{"v":0,"d":"0 "}]

{"sheet":"リスト","index":2,"n_rows":13,"n_cols":5,"rows_kept":13,"hidden":true}
["月","日","口座種類","金融機関","支店"]
[1,20,"普通／当座","銀行","支店"]
[2,15,"普通","信金","本店"]
[3,null,"当座","農協","営業部"]
[4,null,null,"郵貯","出張所"]
[5,null,null,"その他","その他"]
[6]
[7]
[8]
[9]
[10]
[11]
[12]